BEGIN:VCALENDAR
VERSION:2.0
PRODID:-//Yoga &amp; Zen - ECPv4.9.4//NONSGML v1.0//EN
CALSCALE:GREGORIAN
METHOD:PUBLISH
X-WR-CALNAME:Yoga &amp; Zen
X-ORIGINAL-URL:https://victoriaaustin.org
X-WR-CALDESC:Events for Yoga &amp; Zen
BEGIN:VTIMEZONE
TZID:"America/Denver"
BEGIN:DAYLIGHT
TZOFFSETFROM:-0700
TZOFFSETTO:-0600
TZNAME:MDT
DTSTART:20190310T090000
END:DAYLIGHT
BEGIN:STANDARD
TZOFFSETFROM:-0600
TZOFFSETTO:-0700
TZNAME:MST
DTSTART:20191103T080000
END:STANDARD
END:VTIMEZONE
BEGIN:VEVENT
DTSTART;TZID="America/Denver":20190601T100000
DTEND;TZID="America/Denver":20190601T150000
DTSTAMP:20260425T234319
CREATED:20190419T015843Z
LAST-MODIFIED:20190419T015843Z
UID:1525-1559383200-1559401200@victoriaaustin.org
SUMMARY:YOGATHON
DESCRIPTION:Join the Iyengar Yoga Association of Northern California and the Iyengar Yoga Institute of San Francisco in celebrating 45 years of serving the Northern California yoga community and honoring the life and teachings of Geeta S. Iyengar. This 12th annual Yogathon will be on Saturday\, June 1st. All are welcome to join any or all events. Please consider offering a tax-deductible donation to support IYANC and IYISF. \nSCHEDULE: \n\n10 am-1 pm* — Coming Together to Practice: 108 Postures led by Richard Weinapple\, Mimi Pajo\, Julia Sterling\, Heather Haxo-Phillips\, Tom Hess\, and Victoria Austin\n1-1:30 pm — Complimentary Lunch\n1:30-3 pm — Celebrating the Life and Teachings of Geeta S. Iyengar: Talk by Victoria Austin on “Wholehearted Practice” followed by Asana Demos\n\n* Registration for the class is required. Please arrive on time for the start of the practice\, and stay for part or all of the practice. \n
URL:https://victoriaaustin.org/event/yogathon/
LOCATION:Iyengar Yoga Institute of San Francisco\, 2201 Sutter St\, San Francisco\, CA\, United States
END:VEVENT
END:VCALENDAR