BEGIN:VCALENDAR
VERSION:2.0
PRODID:-//Yoga &amp; Zen - ECPv4.9.4//NONSGML v1.0//EN
CALSCALE:GREGORIAN
METHOD:PUBLISH
X-WR-CALNAME:Yoga &amp; Zen
X-ORIGINAL-URL:https://victoriaaustin.org
X-WR-CALDESC:Events for Yoga &amp; Zen
BEGIN:VTIMEZONE
TZID:"America/Los_Angeles"
BEGIN:DAYLIGHT
TZOFFSETFROM:-0800
TZOFFSETTO:-0700
TZNAME:PDT
DTSTART:20170312T100000
END:DAYLIGHT
BEGIN:STANDARD
TZOFFSETFROM:-0700
TZOFFSETTO:-0800
TZNAME:PST
DTSTART:20171105T090000
END:STANDARD
END:VTIMEZONE
BEGIN:VEVENT
DTSTART;TZID="America/Los_Angeles":20170205T130000
DTEND;TZID="America/Los_Angeles":20170205T160000
DTSTAMP:20260426T043233
CREATED:20161216T164154Z
LAST-MODIFIED:20161216T164235Z
UID:1000-1486299600-1486310400@victoriaaustin.org
SUMMARY:Pranayama and Philosophy for Iyengar Teachers
DESCRIPTION:In the Yoga Sutras\, Patanjali warns of physical\, physiological\, intellectual\, psychological\, and spiritual obstacles that come up in practice\, accompanied by present and future pain. He teaches remedies to avoid future suffering which seasoned practitioners can apply to resolve present difficulties and avoid future suffering. Because these remedies bring up consciousness through skillful practice with one’s energy\, pranayama is a key element of self-study in yoga. \n  \nIn this experiential workshop\, Introductory and Junior Intermediate Iyengar teacher trainees will study how to recognize\, admit and address the obstacles through skillful means in pranayama practice. \n
URL:https://victoriaaustin.org/event/pranayama-and-philosophy-for-iyengar-teachers/
LOCATION:Iyengar Yoga South Bay\, Bldg B\, Rm #29\, 1 W Campbell Ave\, Campbell\, CA\, 95008\, United States
CATEGORIES:Pranayama,Teachers,Yoga
ORGANIZER;CN="Iyengar%20Yoga%20South%20Bay":MAILTO:lbon@iyoga.com
END:VEVENT
END:VCALENDAR