BEGIN:VCALENDAR
VERSION:2.0
PRODID:-//Yoga &amp; Zen - ECPv4.9.4//NONSGML v1.0//EN
CALSCALE:GREGORIAN
METHOD:PUBLISH
X-WR-CALNAME:Yoga &amp; Zen
X-ORIGINAL-URL:https://victoriaaustin.org
X-WR-CALDESC:Events for Yoga &amp; Zen
BEGIN:VTIMEZONE
TZID:"UTC"
BEGIN:STANDARD
TZOFFSETFROM:+0000
TZOFFSETTO:+0000
TZNAME:UTC
DTSTART:20170101T000000
END:STANDARD
END:VTIMEZONE
BEGIN:VEVENT
DTSTART;TZID="UTC":20170312T140000
DTEND;TZID="UTC":20170312T160000
DTSTAMP:20260426T030445
CREATED:20170202T135804Z
LAST-MODIFIED:20170202T221738Z
UID:1155-1489327200-1489334400@victoriaaustin.org
SUMMARY:Lighting the Way: Yamas and Niyamas for Teachers and Leaders
DESCRIPTION:B.K.S. Iyengar said\, “Teaching is a difficult art\, but it is the best service you can do to humanity.” \nAs teachers\, caregivers\, administrators\, and leaders\, we can easily get in trouble with ourselves or the people we help. Giving\, idealization\, emotional reaction\, and any unconsciousness in our methods of guidance\, all carry risks of burnout\, disappointment\, reactivity\, and disenchantment. How do we cultivate exemplary behavior\, accepting and learning at the boundary between ourselves and others\, as we work to light the way? \nIn this two-hour workshop\, we will explore traditional teachings on the Yamas and Niyamas (universal vows and personal disciplines) and how they relate to wholesome\, developmental boundaries at work. We will use your questions\, as well as examples inspired by the Ethical Guidelines for Iyengar Yoga Teachers\, to study practices useful for a wide range of leadership arts. Participants of all levels of yoga practice\, and from any helping or guiding profession\, are welcome. \nPlease wear loose\, comfortable clothing\, and submit a question by March 5th to connect@victoriaaustin.org \n
URL:https://victoriaaustin.org/event/lighting-the-way-yamas-and-niyamas-for-teachers-and-leaders-2/
LOCATION:Iyengar Yoga Institute of San Francisco\, 2201 Sutter St\, San Francisco\, CA\, United States
CATEGORIES:Ethics,Meditation,San Francisco Classes,Teachers,Yoga
END:VEVENT
END:VCALENDAR