BEGIN:VCALENDAR
VERSION:2.0
PRODID:-//Yoga &amp; Zen - ECPv4.9.4//NONSGML v1.0//EN
CALSCALE:GREGORIAN
METHOD:PUBLISH
X-WR-CALNAME:Yoga &amp; Zen
X-ORIGINAL-URL:https://victoriaaustin.org
X-WR-CALDESC:Events for Yoga &amp; Zen
BEGIN:VTIMEZONE
TZID:"UTC"
BEGIN:STANDARD
TZOFFSETFROM:+0000
TZOFFSETTO:+0000
TZNAME:UTC
DTSTART:20170101T000000
END:STANDARD
END:VTIMEZONE
BEGIN:VEVENT
DTSTART;TZID="UTC":20170517T100000
DTEND;TZID="UTC":20170517T120000
DTSTAMP:20260426T030025
CREATED:20170502T170806Z
LAST-MODIFIED:20170502T170806Z
UID:1244-1495015200-1495022400@victoriaaustin.org
SUMMARY:INTERMEDIATE/ ADVANCED ASANA
DESCRIPTION:A two-hour class for yoga teachers and students with substantial Iyengar yoga experience\, as well as an established home practice. The ability to do 5-minute Sirsasana\, Sarvangasana and their variations away from the wall\, strength in intermediate back bending\, forward bending\, and balancing poses is required. Students at this level have been practicing Iyengar yoga for 5 or more years. \n
URL:https://victoriaaustin.org/event/intermediate-advanced-asana/2017-05-17/
LOCATION:Iyengar Yoga Institute of San Francisco\, 2201 Sutter St\, San Francisco\, CA\, United States
CATEGORIES:San Francisco Classes,Series,Teachers,Yoga
END:VEVENT
END:VCALENDAR