BEGIN:VCALENDAR
VERSION:2.0
PRODID:-//Yoga &amp; Zen - ECPv4.9.4//NONSGML v1.0//EN
CALSCALE:GREGORIAN
METHOD:PUBLISH
X-WR-CALNAME:Yoga &amp; Zen
X-ORIGINAL-URL:https://victoriaaustin.org
X-WR-CALDESC:Events for Yoga &amp; Zen
BEGIN:VTIMEZONE
TZID:"America/Denver"
BEGIN:DAYLIGHT
TZOFFSETFROM:-0700
TZOFFSETTO:-0600
TZNAME:MDT
DTSTART:20190310T090000
END:DAYLIGHT
BEGIN:STANDARD
TZOFFSETFROM:-0600
TZOFFSETTO:-0700
TZNAME:MST
DTSTART:20191103T080000
END:STANDARD
END:VTIMEZONE
BEGIN:VEVENT
DTSTART;TZID="America/Denver":20190511T140000
DTEND;TZID="America/Denver":20190511T170000
DTSTAMP:20260426T030419
CREATED:20190419T020843Z
LAST-MODIFIED:20190419T020843Z
UID:1528-1557583200-1557594000@victoriaaustin.org
SUMMARY:EVOLUTION OF TEACHING: Teaching Skills for Certified Iyengar Yoga Teachers
DESCRIPTION:EVOLUTION OF TEACHING: Inversions \nwith Victoria Austin and Brian Hogencamp \n  \nINVERSIONS are magnificent daily practices for both teachers and seasoned students. Correct practice of inverted poses provides unique modes of development for physical\, emotional\, intellectual and spiritual well-being. Yet teaching inversions poses unique challenges and risks\, requiring skillful training and practice: \n\nHow do we inspire our students by example\, instruction\, by voice and by gaze\, to embody the actions that support active contemplation?\nHow do we support our students who have physical challenges with inversions?\nHow do we adjust a student who is studying the self upside down?\n\nTHIS WORKSHOP focuses on participants’ refinement in three developmental skills: \n\nPractice and presentation of Dr. Geeta Iyengar’s sequence of learning inversions\nModifications for common issues\nPathways to deepen the practice of inverted poses\, in oneself and in one’s students\n\nCIYTs and candidates preparing for assessment are invited to register; you will be joined by beginning teachers in the current Art of Teaching Program. Participants will practice teaching and giving feedback\, cultivating direct experience of instruction\, observation and correction to evolve our transmission of Viparita Sthiti. \n
URL:https://victoriaaustin.org/event/evolution-of-teaching-teaching-skills-for-certified-iyengar-yoga-teachers/
LOCATION:Iyengar Yoga Institute of San Francisco\, 2201 Sutter St\, San Francisco\, CA\, United States
END:VEVENT
END:VCALENDAR