BEGIN:VCALENDAR
VERSION:2.0
PRODID:-//Yoga &amp; Zen - ECPv4.9.4//NONSGML v1.0//EN
CALSCALE:GREGORIAN
METHOD:PUBLISH
X-WR-CALNAME:Yoga &amp; Zen
X-ORIGINAL-URL:https://victoriaaustin.org
X-WR-CALDESC:Events for Yoga &amp; Zen
BEGIN:VTIMEZONE
TZID:"UTC"
BEGIN:STANDARD
TZOFFSETFROM:+0000
TZOFFSETTO:+0000
TZNAME:UTC
DTSTART:20170101T000000
END:STANDARD
END:VTIMEZONE
BEGIN:VEVENT
DTSTART;TZID="UTC":20170826T130000
DTEND;TZID="UTC":20170826T170000
DTSTAMP:20260426T025920
CREATED:20170502T175902Z
LAST-MODIFIED:20170502T180318Z
UID:1257-1503752400-1503766800@victoriaaustin.org
SUMMARY:Ethics
DESCRIPTION:
URL:https://victoriaaustin.org/event/ethics/
LOCATION:Adeline Yoga Studio\, 3320 Adeline Street\, Berkeley\, CA\, 94703\, United States
END:VEVENT
END:VCALENDAR