BEGIN:VCALENDAR
VERSION:2.0
PRODID:-//Yoga &amp; Zen - ECPv4.9.4//NONSGML v1.0//EN
CALSCALE:GREGORIAN
METHOD:PUBLISH
X-WR-CALNAME:Yoga &amp; Zen
X-ORIGINAL-URL:https://victoriaaustin.org
X-WR-CALDESC:Events for Yoga &amp; Zen
BEGIN:VTIMEZONE
TZID:"UTC"
BEGIN:STANDARD
TZOFFSETFROM:+0000
TZOFFSETTO:+0000
TZNAME:UTC
DTSTART:20170101T000000
END:STANDARD
END:VTIMEZONE
BEGIN:VEVENT
DTSTART;TZID="UTC":20170520T100000
DTEND;TZID="UTC":20170520T120000
DTSTAMP:20260426T043049
CREATED:20170502T171551Z
LAST-MODIFIED:20170502T171551Z
UID:1247-1495274400-1495281600@victoriaaustin.org
SUMMARY:DHARMA TALK and DISCUSSION
DESCRIPTION:Victoria will offer the Saturday morning Dharma talk in the Buddha Hall at San Francisco Zen Center. This will include an accessible presentation of Buddhist teachings with an emphasis on home practice\, tea and fresh-baked cookies\, and a discussion based on questions and answers. Everyone is welcome to attend either the talk\, the Q & A\, or both. Donations to San Francisco Zen Center are gratefully accepted in the donation box in the lobby. \n
URL:https://victoriaaustin.org/event/dharma-talk-and-discussion/
LOCATION:San Francisco Zen Center\, 300 Page Street\, San Francisco\, CA\, 94102\, United States
CATEGORIES:Lectures,Meditation
END:VEVENT
END:VCALENDAR