BEGIN:VCALENDAR
VERSION:2.0
PRODID:-//Yoga &amp; Zen - ECPv4.9.4//NONSGML v1.0//EN
CALSCALE:GREGORIAN
METHOD:PUBLISH
X-WR-CALNAME:Yoga &amp; Zen
X-ORIGINAL-URL:https://victoriaaustin.org
X-WR-CALDESC:Events for Yoga &amp; Zen
BEGIN:VTIMEZONE
TZID:"UTC"
BEGIN:STANDARD
TZOFFSETFROM:+0000
TZOFFSETTO:+0000
TZNAME:UTC
DTSTART:20190101T000000
END:STANDARD
END:VTIMEZONE
BEGIN:VEVENT
DTSTART;TZID="UTC":20190713T140000
DTEND;TZID="UTC":20190713T170000
DTSTAMP:20260425T221010
CREATED:20190713T164203Z
LAST-MODIFIED:20190713T164203Z
UID:1573-1563026400-1563037200@victoriaaustin.org
SUMMARY:ASANA SIZE L
DESCRIPTION:In yoga\, stability and ease can be challenging for those who are overweight or obese. Taught by someone who understands\, this three-hour practice divided into short modules will help participants address their specific dynamics effectively\, with compassion. The plan is to develop lightness in entering\, holding\, and exiting each pose. \n  \nAll levels welcome; poses will be modified as necessary. \n
URL:https://victoriaaustin.org/event/asana-size-l/
LOCATION:Iyengar Yoga Institute of San Francisco\, 2201 Sutter St\, San Francisco\, CA\, United States
CATEGORIES:San Francisco Classes,Yoga
END:VEVENT
END:VCALENDAR