BEGIN:VCALENDAR
VERSION:2.0
PRODID:-//Yoga &amp; Zen - ECPv4.9.4//NONSGML v1.0//EN
CALSCALE:GREGORIAN
METHOD:PUBLISH
X-WR-CALNAME:Yoga &amp; Zen
X-ORIGINAL-URL:https://victoriaaustin.org
X-WR-CALDESC:Events for Yoga &amp; Zen
BEGIN:VTIMEZONE
TZID:"UTC"
BEGIN:STANDARD
TZOFFSETFROM:+0000
TZOFFSETTO:+0000
TZNAME:UTC
DTSTART:20160101T000000
END:STANDARD
END:VTIMEZONE
BEGIN:VEVENT
DTSTART;TZID="UTC":20160831T090000
DTEND;TZID="UTC":20160831T223000
DTSTAMP:20260426T012117
CREATED:20160829T171709Z
LAST-MODIFIED:20160926T163440Z
UID:135-1472634000-1472682600@victoriaaustin.org
SUMMARY:Asana and Pranayama public class
DESCRIPTION:
URL:https://victoriaaustin.org/event/asana-and-pranayama-public-class-2/
LOCATION:Iyengar Yoga Institute of San Francisco\, 2201 Sutter St\, San Francisco\, CA\, United States
CATEGORIES:Yoga
END:VEVENT
END:VCALENDAR