BEGIN:VCALENDAR
VERSION:2.0
PRODID:-//Yoga &amp; Zen - ECPv4.9.4//NONSGML v1.0//EN
CALSCALE:GREGORIAN
METHOD:PUBLISH
X-WR-CALNAME:Yoga &amp; Zen
X-ORIGINAL-URL:http://victoriaaustin.org
X-WR-CALDESC:Events for Yoga &amp; Zen
BEGIN:VTIMEZONE
TZID:"UTC"
BEGIN:STANDARD
TZOFFSETFROM:+0000
TZOFFSETTO:+0000
TZNAME:UTC
DTSTART:20270101T000000
END:STANDARD
END:VTIMEZONE
BEGIN:VEVENT
DTSTART;TZID="UTC":20270519T173000
DTEND;TZID="UTC":20270519T183000
DTSTAMP:20260425T192053
CREATED:20200905T033137Z
LAST-MODIFIED:20200905T033137Z
UID:3922-1810747800-1810751400@victoriaaustin.org
SUMMARY:Wednesday Level 1-3 Online
DESCRIPTION:
URL:http://victoriaaustin.org/event/wednesday-level-1-3-online/2027-05-19/
LOCATION:Online\, CA\, United States
END:VEVENT
END:VCALENDAR