BEGIN:VCALENDAR
VERSION:2.0
PRODID:-//Yoga &amp; Zen - ECPv4.9.4//NONSGML v1.0//EN
CALSCALE:GREGORIAN
METHOD:PUBLISH
X-WR-CALNAME:Yoga &amp; Zen
X-ORIGINAL-URL:http://victoriaaustin.org
X-WR-CALDESC:Events for Yoga &amp; Zen
BEGIN:VTIMEZONE
TZID:"UTC"
BEGIN:STANDARD
TZOFFSETFROM:+0000
TZOFFSETTO:+0000
TZNAME:UTC
DTSTART:20260101T000000
END:STANDARD
END:VTIMEZONE
BEGIN:VEVENT
DTSTART;TZID="UTC":20260921T163000
DTEND;TZID="UTC":20260921T180000
DTSTAMP:20260425T185039
CREATED:20160921T163838Z
LAST-MODIFIED:20160921T163838Z
UID:3784-1790008200-1790013600@victoriaaustin.org
SUMMARY:Monday Level 1-3 @ Online
DESCRIPTION:
URL:http://victoriaaustin.org/event/level-1-3/2026-09-21/
LOCATION:Online\, CA\, United States
CATEGORIES:Yoga
END:VEVENT
END:VCALENDAR